BEGIN:VCALENDAR
VERSION:2.0
PRODID:-//wp-events-plugin.com//7.2.3.1//EN
BEGIN:VEVENT
UID:12@dmsg-nrw.de
DTSTART:20200921T173000Z
DTEND:20200921T190000Z
DTSTAMP:20200921T155217Z
URL:https://dmsg-nrw.de/events/online-vortrag-risikofaktoren-fuer-ms-und-d
 ie-rolle-von-begleiterkrankungen/
SUMMARY:Online-Vortrag - Risikofaktoren für MS und die Rolle von Begleiter
 krankungen
DESCRIPTION:
END:VEVENT
BEGIN:VEVENT
UID:7@dmsg-nrw.de
DTSTART:20200922T183000Z
DTEND:20200922T200000Z
DTSTAMP:20200922T155653Z
URL:https://dmsg-nrw.de/events/spezielle-angebote-fuer-neubetroffene-onlin
 evortrag-psychische-und-neuro-psychologische-aspekte/
SUMMARY:Spezielle Angebote für Neubetroffene - Onlinevortrag Psychische un
 d neuro-psychologische Aspekte
DESCRIPTION:
END:VEVENT
BEGIN:VEVENT
UID:8@dmsg-nrw.de
DTSTART;TZID=Europe/Berlin:20200925T160000
DTEND;TZID=Europe/Berlin:20200925T173000
DTSTAMP:20200925T111019Z
URL:https://dmsg-nrw.de/events/online-seminar-kindliche-und-juvenile-ms/
SUMMARY:Online-Seminar Kindliche und juvenile MS
DESCRIPTION:
END:VEVENT
BEGIN:VEVENT
UID:1@dmsg-nrw.de
DTSTART;TZID=Europe/Berlin:20200928T183000
DTEND;TZID=Europe/Berlin:20200928T200000
DTSTAMP:20200928T122759Z
URL:https://dmsg-nrw.de/events/spezielle-angebote-fuer-neubetroffene-onlin
 evortrag-sport-und-entspannung/
SUMMARY:Spezielle Angebote für Neubetroffene - Onlinevortrag Sport und Ent
 spannung
DESCRIPTION:
END:VEVENT
BEGIN:VEVENT
UID:2@dmsg-nrw.de
DTSTART:20200929T183000Z
DTEND:20200929T200000Z
DTSTAMP:20200921T155356Z
URL:https://dmsg-nrw.de/events/spezielle-angebote-fuer-neubetroffene-onlin
 evortrag-soziale-aspekte/
SUMMARY:Spezielle Angebote für Neubetroffene - Onlinevortrag Soziale Aspek
 te
DESCRIPTION:
END:VEVENT
BEGIN:VEVENT
UID:10@dmsg-nrw.de
DTSTART:20201009T173000Z
DTEND:20201009T183000Z
DTSTAMP:20200921T155403Z
URL:https://dmsg-nrw.de/events/feldenkrais-schnupperkurs/
SUMMARY:Feldenkrais - Schnupperkurs
DESCRIPTION:
END:VEVENT
BEGIN:VEVENT
UID:15@dmsg-nrw.de
DTSTART;TZID=Europe/Berlin:20201013T183000
DTEND;TZID=Europe/Berlin:20201013T200000
DTSTAMP:20201005T082909Z
URL:https://dmsg-nrw.de/events/spezielle-angebote-fuer-neubetroffene-onlin
 evortrag-medizinische-aspekte/
SUMMARY:Spezielle Angebote für Neubetroffene - Onlinevortrag Medizinische 
 Aspekte
DESCRIPTION:
END:VEVENT
BEGIN:VEVENT
UID:3@dmsg-nrw.de
DTSTART:20201015T183000Z
DTEND:20201015T200000Z
DTSTAMP:20200921T155446Z
URL:https://dmsg-nrw.de/events/spezielle-angebote-fuer-neubetroffene-virtu
 elle-gruppe/
SUMMARY:Spezielle Angebote für Neubetroffene - Virtuelle Gruppe
DESCRIPTION:
END:VEVENT
BEGIN:VEVENT
UID:16@dmsg-nrw.de
DTSTART;TZID=Europe/Berlin:20201022T183000
DTEND;TZID=Europe/Berlin:20201022T200000
DTSTAMP:20201005T082948Z
URL:https://dmsg-nrw.de/events/spezielle-angebote-fuer-neubetroffene-psych
 ologische-aspekte/
SUMMARY:Spezielle Angebote für Neubetroffene - Onlinevortrag Psychologisch
 e Aspekte
DESCRIPTION:
END:VEVENT
BEGIN:VEVENT
UID:11@dmsg-nrw.de
DTSTART:20201027T173000Z
DTEND:20201027T183000Z
DTSTAMP:20200924T151604Z
URL:https://dmsg-nrw.de/events/feldenkrais-kurs-2/
SUMMARY:Feldenkrais-Kurs 2
DESCRIPTION:
END:VEVENT
BEGIN:VEVENT
UID:17@dmsg-nrw.de
DTSTART;TZID=Europe/Berlin:20201027T183000
DTEND;TZID=Europe/Berlin:20201027T200000
DTSTAMP:20201005T083010Z
URL:https://dmsg-nrw.de/events/spezielle-angebote-fuer-neubetroffene-onlin
 evortrag-soziale-aspekte-2/
SUMMARY:Spezielle Angebote für Neubetroffene - Onlinevortrag Soziale Aspek
 te
DESCRIPTION:
END:VEVENT
BEGIN:VEVENT
UID:18@dmsg-nrw.de
DTSTART;TZID=Europe/Berlin:20201028T183000
DTEND;TZID=Europe/Berlin:20201028T200000
DTSTAMP:20201005T083027Z
URL:https://dmsg-nrw.de/events/spezielle-angebote-fuer-neubetroffene-onlin
 evortrag-sport-und-entspannung-2/
SUMMARY:Spezielle Angebote für Neubetroffene - Onlinevortrag Sport und Ent
 spannung
DESCRIPTION:
END:VEVENT
BEGIN:VEVENT
UID:4@dmsg-nrw.de
DTSTART:20201029T183000Z
DTEND:20201029T200000Z
DTSTAMP:20200921T155508Z
URL:https://dmsg-nrw.de/events/spezielle-angebote-fuer-neubetroffene-virtu
 elle-gruppe-2/
SUMMARY:Spezielle Angebote für Neubetroffene - Virtuelle Gruppe
DESCRIPTION:
END:VEVENT
BEGIN:VEVENT
UID:9@dmsg-nrw.de
DTSTART:20201031T100000Z
DTEND:20201031T160000Z
DTSTAMP:20200916T090608Z
URL:https://dmsg-nrw.de/events/auch-angehoerige-sind-betroffen-koeln-abges
 agt/
SUMMARY:Auch Angehörige sind betroffen\, Köln - ABGESAGT
DESCRIPTION:
END:VEVENT
BEGIN:VEVENT
UID:19@dmsg-nrw.de
DTSTART;TZID=Europe/Berlin:20201104T183000
DTEND;TZID=Europe/Berlin:20201104T200000
DTSTAMP:20201005T083047Z
URL:https://dmsg-nrw.de/events/spezielle-angebote-fuer-neubetroffene-onlin
 evortrag-vorsorge-und-absicherung/
SUMMARY:Spezielle Angebote für Neubetroffene - Onlinevortrag Vorsorge und 
 Absicherung
DESCRIPTION:
END:VEVENT
BEGIN:VEVENT
UID:20@dmsg-nrw.de
DTSTART;TZID=Europe/Berlin:20201105T183000
DTEND;TZID=Europe/Berlin:20201105T200000
DTSTAMP:20201005T083107Z
URL:https://dmsg-nrw.de/events/spezielle-angebote-fuer-neubetroffene-virtu
 elle-gruppe-5/
SUMMARY:Spezielle Angebote für Neubetroffene - Virtuelle Gruppe
DESCRIPTION:
END:VEVENT
BEGIN:VEVENT
UID:5@dmsg-nrw.de
DTSTART:20201112T183000Z
DTEND:20201112T200000Z
DTSTAMP:20200921T155516Z
URL:https://dmsg-nrw.de/events/spezielle-angebote-fuer-neubetroffene-virtu
 elle-gruppe-3/
SUMMARY:Spezielle Angebote für Neubetroffene - Virtuelle Gruppe
DESCRIPTION:
END:VEVENT
BEGIN:VEVENT
UID:14@dmsg-nrw.de
DTSTART:20201114T110000Z
DTEND:20201114T123000Z
DTSTAMP:20201110T092024Z
URL:https://dmsg-nrw.de/events/online-seminar-ms-und-kognition/
SUMMARY:Online-Seminar MS und Kognition
DESCRIPTION:
END:VEVENT
BEGIN:VEVENT
UID:13@dmsg-nrw.de
DTSTART:20201116T190000Z
DTEND:20201116T210000Z
DTSTAMP:20201116T160223Z
URL:https://dmsg-nrw.de/events/plan-baby-bei-ms-online-seminar/
SUMMARY:Plan Baby bei MS – Online-Seminar
DESCRIPTION:
END:VEVENT
BEGIN:VEVENT
UID:24@dmsg-nrw.de
DTSTART;TZID=Europe/Berlin:20201117T183000
DTEND;TZID=Europe/Berlin:20201117T200000
DTSTAMP:20201117T151140Z
URL:https://dmsg-nrw.de/events/online-seminar-fuer-neubetroffene-sport-und
 -entspannung/
SUMMARY:Online-Seminar für Neubetroffene - Sport und Entspannung
DESCRIPTION:
END:VEVENT
BEGIN:VEVENT
UID:21@dmsg-nrw.de
DTSTART;TZID=Europe/Berlin:20201119T183000
DTEND;TZID=Europe/Berlin:20201119T200000
DTSTAMP:20201118T094838Z
URL:https://dmsg-nrw.de/events/spezielle-angebote-fuer-neubetroffene-virtu
 elle-gruppe-6/
SUMMARY:Spezielle Angebote für Neubetroffene - Virtuelle Gruppe
DESCRIPTION:
END:VEVENT
BEGIN:VEVENT
UID:6@dmsg-nrw.de
DTSTART:20201126T183000Z
DTEND:20201126T200000Z
DTSTAMP:20200921T155539Z
URL:https://dmsg-nrw.de/events/spezielle-angebote-fuer-neubetroffene-virtu
 elle-gruppe-4/
SUMMARY:Spezielle Angebote für Neubetroffene - Virtuelle Gruppe
DESCRIPTION:
END:VEVENT
BEGIN:VEVENT
UID:22@dmsg-nrw.de
DTSTART;TZID=Europe/Berlin:20201203T183000
DTEND;TZID=Europe/Berlin:20201203T200000
DTSTAMP:20201005T083148Z
URL:https://dmsg-nrw.de/events/spezielle-angebote-fuer-neubetroffene-virtu
 elle-gruppe-7/
SUMMARY:Spezielle Angebote für Neubetroffene - Virtuelle Gruppe
DESCRIPTION:
END:VEVENT
BEGIN:VEVENT
UID:23@dmsg-nrw.de
DTSTART;TZID=Europe/Berlin:20201217T183000
DTEND;TZID=Europe/Berlin:20201217T200000
DTSTAMP:20201005T083202Z
URL:https://dmsg-nrw.de/events/spezielle-angebote-fuer-neubetroffene-virtu
 elle-gruppe-8/
SUMMARY:Spezielle Angebote für Neubetroffene - Virtuelle Gruppe
DESCRIPTION:
END:VEVENT
BEGIN:VEVENT
UID:25@dmsg-nrw.de
DTSTART;TZID=Europe/Berlin:20210118T180000
DTEND;TZID=Europe/Berlin:20210118T200000
DTSTAMP:20201202T124552Z
URL:https://dmsg-nrw.de/events/online-seminar-schwerbehinderung/
SUMMARY:Online-Seminar Schwerbehinderung
DESCRIPTION:
END:VEVENT
BEGIN:VEVENT
UID:41@dmsg-nrw.de
DTSTART;TZID=Europe/Berlin:20210119T173000
DTEND;TZID=Europe/Berlin:20210119T183000
DTSTAMP:20201221T134546Z
URL:https://dmsg-nrw.de/events/online-schnupperkurs-feldenkrais/
SUMMARY:Online-Schnupperkurs Feldenkrais
DESCRIPTION:
END:VEVENT
BEGIN:VEVENT
UID:35@dmsg-nrw.de
DTSTART;TZID=Europe/Berlin:20210121T180000
DTEND;TZID=Europe/Berlin:20210121T193000
DTSTAMP:20201211T081304Z
URL:https://dmsg-nrw.de/events/online-informationsveranstaltung-sportorien
 tierte-kompaktschulung/
SUMMARY:Online-Informationsveranstaltung Sportorientierte Kompaktschulung
DESCRIPTION:Zur Anmeldung \n\n\n&nbsp\;
END:VEVENT
BEGIN:VEVENT
UID:46@dmsg-nrw.de
DTSTART;TZID=Europe/Berlin:20210126T173000
DTEND;TZID=Europe/Berlin:20210126T183000
DTSTAMP:20210108T111027Z
URL:https://dmsg-nrw.de/events/online-kurs-feldenkrais/
SUMMARY:Online-Kurs Feldenkrais
DESCRIPTION:
END:VEVENT
BEGIN:VEVENT
UID:26@dmsg-nrw.de
DTSTART;TZID=Europe/Berlin:20210127T180000
DTEND;TZID=Europe/Berlin:20210127T200000
DTSTAMP:20201202T125111Z
URL:https://dmsg-nrw.de/events/online-seminar-resilienz/
SUMMARY:Online-Seminar Resilienz
DESCRIPTION:
END:VEVENT
BEGIN:VEVENT
UID:43@dmsg-nrw.de
DTSTART;TZID=Europe/Berlin:20210202T100000
DTEND;TZID=Europe/Berlin:20210202T120000
DTSTAMP:20210106T111119Z
URL:https://dmsg-nrw.de/events/bbb-aufbauseminar-finanzielle-unterstuetzun
 gsmoeglichkeiten-im-alltagsleben/
SUMMARY:BbB Aufbauseminar „Finanzielle Unterstützungsmöglichkeiten im A
 lltagsleben“
DESCRIPTION:
END:VEVENT
BEGIN:VEVENT
UID:45@dmsg-nrw.de
DTSTART;TZID=Europe/Berlin:20210204T180000
DTEND;TZID=Europe/Berlin:20210204T190000
DTSTAMP:20210108T083119Z
URL:https://dmsg-nrw.de/events/online-seminar-was-muss-ich-ueber-die-ms-un
 d-deren-therapie-wissen-informationen-nicht-nur-fuer-neubetroffene/
SUMMARY:Online-Seminar Was muss ich über die MS und deren Therapie wissen?
  Informationen nicht nur für Neubetroffene
DESCRIPTION:
END:VEVENT
BEGIN:VEVENT
UID:27@dmsg-nrw.de
DTSTART;TZID=Europe/Berlin:20210217T180000
DTEND;TZID=Europe/Berlin:20210217T200000
DTSTAMP:20210107T064632Z
URL:https://dmsg-nrw.de/events/online-seminar-coping/
SUMMARY:Online-Seminar Coping
DESCRIPTION:
END:VEVENT
BEGIN:VEVENT
UID:28@dmsg-nrw.de
DTSTART;TZID=Europe/Berlin:20210218T180000
DTEND;TZID=Europe/Berlin:20210218T200000
DTSTAMP:20210115T095953Z
URL:https://dmsg-nrw.de/events/online-seminar-pflege-bei-ms/
SUMMARY:Online-Seminar Pflege bei MS
DESCRIPTION:
END:VEVENT
BEGIN:VEVENT
UID:44@dmsg-nrw.de
DTSTART;TZID=Europe/Berlin:20210225T180000
DTEND;TZID=Europe/Berlin:20210225T190000
DTSTAMP:20210225T074302Z
URL:https://dmsg-nrw.de/events/online-seminar-die-symptome-der-ms-sind-beh
 andelbar-informationen-ueber-fatigue-spastik-blase-und-mehr/
SUMMARY:Online-Seminar Die Symptome der MS sind behandelbar - Informationen
  über Fatigue\, Spastik\, Blase und mehr
DESCRIPTION:
END:VEVENT
BEGIN:VEVENT
UID:38@dmsg-nrw.de
DTSTART;TZID=Europe/Berlin:20210301T190000
DTEND;TZID=Europe/Berlin:20210301T203000
DTSTAMP:20210301T174350Z
URL:https://dmsg-nrw.de/events/online-seminar-plan-baby-bei-ms-2/
SUMMARY:Online-Seminar Plan Baby bei MS
DESCRIPTION:
END:VEVENT
BEGIN:VEVENT
UID:29@dmsg-nrw.de
DTSTART;TZID=Europe/Berlin:20210304T150000
DTEND;TZID=Europe/Berlin:20210304T170000
DTSTAMP:20201202T125650Z
URL:https://dmsg-nrw.de/events/online-seminar-praxisberatung-fuer-leiter-d
 er-kontaktkreise-koeln-bochum/
SUMMARY:Online-Seminar Praxisberatung für Leiter der Kontaktkreise Köln /
  Bochum
DESCRIPTION:
END:VEVENT
BEGIN:VEVENT
UID:30@dmsg-nrw.de
DTSTART;TZID=Europe/Berlin:20210315T170000
DTEND;TZID=Europe/Berlin:20210315T190000
DTSTAMP:20201202T125821Z
URL:https://dmsg-nrw.de/events/online-seminar-praxisberatung-fuer-leiter-d
 er-kontaktkreise-duesseldorf/
SUMMARY:Online-Seminar Praxisberatung für Leiter der Kontaktkreise Düssel
 dorf
DESCRIPTION:
END:VEVENT
BEGIN:VEVENT
UID:47@dmsg-nrw.de
DTSTART;TZID=Europe/Berlin:20210318T180000
DTEND;TZID=Europe/Berlin:20210318T190000
DTSTAMP:20210219T112855Z
URL:https://dmsg-nrw.de/events/online-seminar-selbstfuersorge/
SUMMARY:Online-Seminar Selbstfürsorge
DESCRIPTION:
END:VEVENT
BEGIN:VEVENT
UID:42@dmsg-nrw.de
DTSTART;TZID=Europe/Berlin:20210323T173000
DTEND;TZID=Europe/Berlin:20210323T190000
DTSTAMP:20210318T172710Z
URL:https://dmsg-nrw.de/events/online-schnupperkurs-feldenkrais-2/
SUMMARY:Online-Schnupperkurs Feldenkrais
DESCRIPTION:
END:VEVENT
BEGIN:VEVENT
UID:31@dmsg-nrw.de
DTSTART;TZID=Europe/Berlin:20210324T180000
DTEND;TZID=Europe/Berlin:20210324T200000
DTSTAMP:20201202T125948Z
URL:https://dmsg-nrw.de/events/online-seminar-glueck/
SUMMARY:Online-Seminar Glück
DESCRIPTION:
END:VEVENT
BEGIN:VEVENT
UID:32@dmsg-nrw.de
DTSTART;TZID=Europe/Berlin:20210414T180000
DTEND;TZID=Europe/Berlin:20210414T200000
DTSTAMP:20201202T130243Z
URL:https://dmsg-nrw.de/events/online-seminar-stressbewaeltigung/
SUMMARY:Online-Seminar Stressbewältigung
DESCRIPTION:
END:VEVENT
BEGIN:VEVENT
UID:36@dmsg-nrw.de
DTSTART;TZID=Europe/Berlin:20210421T180000
DTEND;TZID=Europe/Berlin:20210421T193000
DTSTAMP:20201216T085314Z
URL:https://dmsg-nrw.de/events/online-seminar-ms-haftung-betroffener-und-d
 ritter-z-b-angehoerige-pflegepersonen-betreuer/
SUMMARY:Online-Seminar MS - Haftung Betroffener und Dritter (z.B. Angehöri
 ge\, Pflegepersonen\, Betreuer)
DESCRIPTION:
END:VEVENT
BEGIN:VEVENT
UID:48@dmsg-nrw.de
DTSTART;TZID=Europe/Berlin:20210429T180000
DTEND;TZID=Europe/Berlin:20210429T180000
DTSTAMP:20210426T130904Z
URL:https://dmsg-nrw.de/events/online-seminar-lebensstil-und-ernaehrung-be
 i-multipler-sklerose/
SUMMARY:Online-Seminar Lebensstil und Ernährung bei Multipler Sklerose
DESCRIPTION:
END:VEVENT
BEGIN:VEVENT
UID:33@dmsg-nrw.de
DTSTART;TZID=Europe/Berlin:20210607T170000
DTEND;TZID=Europe/Berlin:20210607T190000
DTSTAMP:20210111T134114Z
URL:https://dmsg-nrw.de/events/online-seminar-praxisberatung-fuer-leiter-d
 er-kontaktkreise-duesseldorf-2/
SUMMARY:Online-Seminar Praxisberatung für MS-betroffene Berater Düsseldor
 f
DESCRIPTION:
END:VEVENT
BEGIN:VEVENT
UID:34@dmsg-nrw.de
DTSTART;TZID=Europe/Berlin:20210610T150000
DTEND;TZID=Europe/Berlin:20210610T170000
DTSTAMP:20210111T134203Z
URL:https://dmsg-nrw.de/events/online-seminar-praxisberatung-fuer-leiter-d
 er-kontaktkreise-koeln-bochum-2/
SUMMARY:Online-Seminar Praxisberatung für MS-betroffene Berater Köln / Bo
 chum
DESCRIPTION:
END:VEVENT
BEGIN:VEVENT
UID:37@dmsg-nrw.de
DTSTART;TZID=Europe/Berlin:20210614T190000
DTEND;TZID=Europe/Berlin:20210614T203000
DTSTAMP:20201221T095609Z
URL:https://dmsg-nrw.de/events/online-seminar-plan-baby-bei-ms/
SUMMARY:Online-Seminar Plan Baby bei MS
DESCRIPTION:
END:VEVENT
BEGIN:VEVENT
UID:40@dmsg-nrw.de
DTSTART;TZID=Europe/Berlin:20210913T190000
DTEND;TZID=Europe/Berlin:20210913T203000
DTSTAMP:20201221T095840Z
URL:https://dmsg-nrw.de/events/online-seminar-plan-baby-bei-ms-4/
SUMMARY:Online-Seminar Plan Baby bei MS
DESCRIPTION:
END:VEVENT
BEGIN:VEVENT
UID:39@dmsg-nrw.de
DTSTART;TZID=Europe/Berlin:20211129T190000
DTEND;TZID=Europe/Berlin:20211129T203000
DTSTAMP:20201221T095750Z
URL:https://dmsg-nrw.de/events/online-seminar-plan-baby-bei-ms-3/
SUMMARY:Online-Seminar Plan Baby bei MS
DESCRIPTION:
END:VEVENT
BEGIN:VTIMEZONE
TZID:Europe/Berlin
X-LIC-LOCATION:Europe/Berlin
BEGIN:DAYLIGHT
DTSTART:20200329T030000
TZOFFSETFROM:+0100
TZOFFSETTO:+0200
TZNAME:CEST
END:DAYLIGHT
BEGIN:STANDARD
DTSTART:20201025T020000
TZOFFSETFROM:+0200
TZOFFSETTO:+0100
TZNAME:CET
END:STANDARD
BEGIN:DAYLIGHT
DTSTART:20210328T030000
TZOFFSETFROM:+0100
TZOFFSETTO:+0200
TZNAME:CEST
END:DAYLIGHT
BEGIN:STANDARD
DTSTART:20211031T020000
TZOFFSETFROM:+0200
TZOFFSETTO:+0100
TZNAME:CET
END:STANDARD
END:VTIMEZONE
END:VCALENDAR